BEGIN:VCALENDAR
VERSION:2.0
PRODID:-//The Gaskell Society - ECPv6.15.20//NONSGML v1.0//EN
CALSCALE:GREGORIAN
METHOD:PUBLISH
X-WR-CALNAME:The Gaskell Society
X-ORIGINAL-URL:https://gaskellsociety.co.uk
X-WR-CALDESC:Events for The Gaskell Society
REFRESH-INTERVAL;VALUE=DURATION:PT1H
X-Robots-Tag:noindex
X-PUBLISHED-TTL:PT1H
BEGIN:VTIMEZONE
TZID:Europe/London
BEGIN:DAYLIGHT
TZOFFSETFROM:+0000
TZOFFSETTO:+0100
TZNAME:BST
DTSTART:20220327T010000
END:DAYLIGHT
BEGIN:STANDARD
TZOFFSETFROM:+0100
TZOFFSETTO:+0000
TZNAME:GMT
DTSTART:20221030T010000
END:STANDARD
BEGIN:DAYLIGHT
TZOFFSETFROM:+0000
TZOFFSETTO:+0100
TZNAME:BST
DTSTART:20230326T010000
END:DAYLIGHT
BEGIN:STANDARD
TZOFFSETFROM:+0100
TZOFFSETTO:+0000
TZNAME:GMT
DTSTART:20231029T010000
END:STANDARD
BEGIN:DAYLIGHT
TZOFFSETFROM:+0000
TZOFFSETTO:+0100
TZNAME:BST
DTSTART:20240331T010000
END:DAYLIGHT
BEGIN:STANDARD
TZOFFSETFROM:+0100
TZOFFSETTO:+0000
TZNAME:GMT
DTSTART:20241027T010000
END:STANDARD
END:VTIMEZONE
BEGIN:VEVENT
DTSTART;VALUE=DATE:20230421
DTEND;VALUE=DATE:20230424
DTSTAMP:20260420T103615
CREATED:20230206T093418Z
LAST-MODIFIED:20230206T093642Z
UID:4202-1682035200-1682294399@gaskellsociety.co.uk
SUMMARY:ALS AGM Weekend
DESCRIPTION:The Alliance of Literary Societies has its AGM weekend in April (the same weekend as our own AGM on 22 April\, unfortunately). The Gaskell Society is a member of the ALS\, and as such\, our members are invited to the event. \nHosted by the Charlotte M. Yonge Fellowship\,  the 2023 AGM/ALS Weekend runs from April 21st – April 23rd in Winchester (Hants)\, with additional online access. \nThe programme kicks off on Friday evening with an informal supper and entertainment ‘Literary Ladies’ by Cecily O’Neill. The Saturday Conference is from 10am to 5pm at St Swithun’s School\, to include the ALS AGM at 1.45pm and features a number of talks\, a buffet lunch and the chance to network with fellow Societies. At 5.30pm there is a visit to the Hampshire Archives to see a Charlotte M. Yonge display followed by dinner in the grounds of Winchester Cathedral. At noon on Sunday there is a guided walk round Charlotte Yong’s Winchester. \nTo download the full programme and registration documents\, click HERE .
URL:https://gaskellsociety.co.uk/event/als-agm/
LOCATION:Winchester\, various venues
CATEGORIES:AGM
ORGANIZER;CN="The Alliance of Literary Societies":MAILTO:ljc1049@gmail.com
END:VEVENT
END:VCALENDAR