BEGIN:VCALENDAR
VERSION:2.0
PRODID:-//The Gaskell Society - ECPv6.15.20//NONSGML v1.0//EN
CALSCALE:GREGORIAN
METHOD:PUBLISH
X-WR-CALNAME:The Gaskell Society
X-ORIGINAL-URL:https://gaskellsociety.co.uk
X-WR-CALDESC:Events for The Gaskell Society
REFRESH-INTERVAL;VALUE=DURATION:PT1H
X-Robots-Tag:noindex
X-PUBLISHED-TTL:PT1H
BEGIN:VTIMEZONE
TZID:Europe/London
BEGIN:DAYLIGHT
TZOFFSETFROM:+0000
TZOFFSETTO:+0100
TZNAME:BST
DTSTART:20250330T010000
END:DAYLIGHT
BEGIN:STANDARD
TZOFFSETFROM:+0100
TZOFFSETTO:+0000
TZNAME:GMT
DTSTART:20251026T010000
END:STANDARD
BEGIN:DAYLIGHT
TZOFFSETFROM:+0000
TZOFFSETTO:+0100
TZNAME:BST
DTSTART:20260329T010000
END:DAYLIGHT
BEGIN:STANDARD
TZOFFSETFROM:+0100
TZOFFSETTO:+0000
TZNAME:GMT
DTSTART:20261025T010000
END:STANDARD
BEGIN:DAYLIGHT
TZOFFSETFROM:+0000
TZOFFSETTO:+0100
TZNAME:BST
DTSTART:20270328T010000
END:DAYLIGHT
BEGIN:STANDARD
TZOFFSETFROM:+0100
TZOFFSETTO:+0000
TZNAME:GMT
DTSTART:20271031T010000
END:STANDARD
END:VTIMEZONE
BEGIN:VEVENT
DTSTART;TZID=Europe/London:20260506T190000
DTEND;TZID=Europe/London:20260506T200000
DTSTAMP:20260422T224911
CREATED:20260107T170006Z
LAST-MODIFIED:20260107T170006Z
UID:8422-1778094000-1778097600@gaskellsociety.co.uk
SUMMARY:‘I wish I were a girl again\, half-savage and hardy\, and free’ – Emily and Anne Brontë
DESCRIPTION:Elizabeth Gaskell’s famous biography\, The Life of Charlotte Brontë went a considerable way to creating the myth of the famous writer living up on the moors. But what of the image of Charlotte’s two groundbreaking literary sisters\, Emily and Anne Brontë? How has our view of these trailblazing writers changed over the years? \nEmily Brontë’s enduring classic Wuthering Heights makes her the author of one of the finest novels in English language and shows her to be a woman of great passion. What was she like as a person and how was she depicted outside the family? Her sister Anne has been overshadowed by both siblings but her debut novel Agnes Grey and feminist masterpiece The Tennant of Wildfell Hall are now critically acclaimed. Compared with Charlotte\, both sisters’ left little behind beyond their work\, creating a vacuum others have been happy to fill with their own theories; and this has sometimes obscured our understanding further. \nSo\, what did Elizabeth Gaskell discover about Emily and Anne in her research? How have opinions on their trailblazing works changed over the years and how has our image of them changed? Sue Newby\, Education Officer at the Brontë Parsonage Museum\, reveals all the answers. \nThis is the last of three online events in the Charlotte Bronte and Elizabeth Gaskell mini-season: a partnership between Elizabeth Gaskell’s House and the Brontë Parsonage Museum
URL:https://gaskellsociety.co.uk/event/i-wish-i-were-a-girl-again-half-savage-and-hardy-and-free-emily-and-anne-bronte/
LOCATION:online
CATEGORIES:talk
ORGANIZER;CN="Elizabeth Gaskell's House":MAILTO:enquiries@elizabethgaskellhouse.co.uk
END:VEVENT
END:VCALENDAR