BEGIN:VCALENDAR
VERSION:2.0
PRODID:-//The Gaskell Society - ECPv6.15.20//NONSGML v1.0//EN
CALSCALE:GREGORIAN
METHOD:PUBLISH
X-WR-CALNAME:The Gaskell Society
X-ORIGINAL-URL:https://gaskellsociety.co.uk
X-WR-CALDESC:Events for The Gaskell Society
REFRESH-INTERVAL;VALUE=DURATION:PT1H
X-Robots-Tag:noindex
X-PUBLISHED-TTL:PT1H
BEGIN:VTIMEZONE
TZID:Europe/London
BEGIN:DAYLIGHT
TZOFFSETFROM:+0000
TZOFFSETTO:+0100
TZNAME:BST
DTSTART:20240331T010000
END:DAYLIGHT
BEGIN:STANDARD
TZOFFSETFROM:+0100
TZOFFSETTO:+0000
TZNAME:GMT
DTSTART:20241027T010000
END:STANDARD
BEGIN:DAYLIGHT
TZOFFSETFROM:+0000
TZOFFSETTO:+0100
TZNAME:BST
DTSTART:20250330T010000
END:DAYLIGHT
BEGIN:STANDARD
TZOFFSETFROM:+0100
TZOFFSETTO:+0000
TZNAME:GMT
DTSTART:20251026T010000
END:STANDARD
BEGIN:DAYLIGHT
TZOFFSETFROM:+0000
TZOFFSETTO:+0100
TZNAME:BST
DTSTART:20260329T010000
END:DAYLIGHT
BEGIN:STANDARD
TZOFFSETFROM:+0100
TZOFFSETTO:+0000
TZNAME:GMT
DTSTART:20261025T010000
END:STANDARD
END:VTIMEZONE
BEGIN:VEVENT
DTSTART;TZID=Europe/London:20250225T130000
DTEND;TZID=Europe/London:20250225T150000
DTSTAMP:20260421T094812
CREATED:20240219T121831Z
LAST-MODIFIED:20241108T140312Z
UID:5157-1740488400-1740495600@gaskellsociety.co.uk
SUMMARY:Knutsford Meeting - Middlemarch & Wives and Daughters
DESCRIPTION:Many critics have considered the similarities between the works of Elizabeth Gaskell and George Eliot\, thus suggesting one having influenced the other. Eliot’s reputation has been such that there is often an assumption that Gaskell would be influenced by her. The question we should be asking is: Did Gaskell in any way influence Eliot? \nIn this fourth session\, Dr Diane Duffy looks the themes of education and marriage\, with particular focus on Rosamund Vincy and Mrs Gibson. \nOur monthly Knutsford meetings are held on the last Tuesday of each month\, between October and April (except December). They take the form of an informal and friendly open discussion / study session. Come along and share your thoughts\, or simply enjoy listening in.\nBring your own packed lunch from 1pm and then enjoy the discussion\, 2-3pm. Everyone is most welcome. £5 members\, £6 non-members \nDownload Diane’s Points to Ponder and extracts from the two works for discussion.  \nThis talk will be delivered live in-person\, in Knutsford\, with a simultaneous Zoom link for remote participants (please note we will not be making a recording available for later viewing).  \nSimply come along and pay on the door\, or book online (no booking fee). \n\n\n \nUse the links below to purchase any of these books and you’ll be supporting the Gaskell Society through our affiliate link.  Bookshop.org also champions independent bookshops.  \n 
URL:https://gaskellsociety.co.uk/event/knutsford-meeting-february-2025/
LOCATION:Brook Street Unitarian Chapel\, Adam's Hill\,\, Knutsford\, WA16 8DY\, United Kingdom
CATEGORIES:Discussion,George Eliot,Knutsford,Meeting,Wives & Daughters,Zoom
ORGANIZER;CN="The Gaskell Society":MAILTO:gaskellsociety@gmail.com
END:VEVENT
END:VCALENDAR