BEGIN:VCALENDAR
VERSION:2.0
PRODID:-//The Gaskell Society - ECPv6.15.20//NONSGML v1.0//EN
CALSCALE:GREGORIAN
METHOD:PUBLISH
X-WR-CALNAME:The Gaskell Society
X-ORIGINAL-URL:https://gaskellsociety.co.uk
X-WR-CALDESC:Events for The Gaskell Society
REFRESH-INTERVAL;VALUE=DURATION:PT1H
X-Robots-Tag:noindex
X-PUBLISHED-TTL:PT1H
BEGIN:VTIMEZONE
TZID:Europe/London
BEGIN:DAYLIGHT
TZOFFSETFROM:+0000
TZOFFSETTO:+0100
TZNAME:BST
DTSTART:20230326T010000
END:DAYLIGHT
BEGIN:STANDARD
TZOFFSETFROM:+0100
TZOFFSETTO:+0000
TZNAME:GMT
DTSTART:20231029T010000
END:STANDARD
BEGIN:DAYLIGHT
TZOFFSETFROM:+0000
TZOFFSETTO:+0100
TZNAME:BST
DTSTART:20240331T010000
END:DAYLIGHT
BEGIN:STANDARD
TZOFFSETFROM:+0100
TZOFFSETTO:+0000
TZNAME:GMT
DTSTART:20241027T010000
END:STANDARD
BEGIN:DAYLIGHT
TZOFFSETFROM:+0000
TZOFFSETTO:+0100
TZNAME:BST
DTSTART:20250330T010000
END:DAYLIGHT
BEGIN:STANDARD
TZOFFSETFROM:+0100
TZOFFSETTO:+0000
TZNAME:GMT
DTSTART:20251026T010000
END:STANDARD
END:VTIMEZONE
BEGIN:VEVENT
DTSTART;TZID=Europe/London:20240206T130000
DTEND;TZID=Europe/London:20240206T150000
DTSTAMP:20260424T091525
CREATED:20230530T102351Z
LAST-MODIFIED:20231210T095834Z
UID:4607-1707224400-1707231600@gaskellsociety.co.uk
SUMMARY:The Victorian House: Elizabeth Gaskell's House in Context
DESCRIPTION:Is Elizabeth Gaskell’s House a ‘typical’ Victorian house?  Surely houses changed a lot over Victoria’s 63-year-long reign?\nAnthony Burton examines various aspects of Victorian domestic architecture\, in order to show how Elizabeth Gaskell’s House fits in.\n\nDoors open at 1pm and the talk begins at 1.30pm. \nWe’ll make a recording available for online viewing after the event. \nAll are welcome – both members and non-members. Member tickets are £5\, non-members £6.
URL:https://gaskellsociety.co.uk/event/manchester-meeting-february-2024/
LOCATION:Cross Street Chapel\, Cross Street\,\, Manchester\, M2 1NL\, United Kingdom
CATEGORIES:history,Manchester,Meeting,talk
ORGANIZER;CN="The Gaskell Society":MAILTO:gaskellsociety@gmail.com
END:VEVENT
END:VCALENDAR