BEGIN:VCALENDAR
VERSION:2.0
PRODID:-//The Gaskell Society - ECPv6.15.20//NONSGML v1.0//EN
CALSCALE:GREGORIAN
METHOD:PUBLISH
X-WR-CALNAME:The Gaskell Society
X-ORIGINAL-URL:https://gaskellsociety.co.uk
X-WR-CALDESC:Events for The Gaskell Society
REFRESH-INTERVAL;VALUE=DURATION:PT1H
X-Robots-Tag:noindex
X-PUBLISHED-TTL:PT1H
BEGIN:VTIMEZONE
TZID:Europe/London
BEGIN:DAYLIGHT
TZOFFSETFROM:+0000
TZOFFSETTO:+0100
TZNAME:BST
DTSTART:20220327T010000
END:DAYLIGHT
BEGIN:STANDARD
TZOFFSETFROM:+0100
TZOFFSETTO:+0000
TZNAME:GMT
DTSTART:20221030T010000
END:STANDARD
BEGIN:DAYLIGHT
TZOFFSETFROM:+0000
TZOFFSETTO:+0100
TZNAME:BST
DTSTART:20230326T010000
END:DAYLIGHT
BEGIN:STANDARD
TZOFFSETFROM:+0100
TZOFFSETTO:+0000
TZNAME:GMT
DTSTART:20231029T010000
END:STANDARD
BEGIN:DAYLIGHT
TZOFFSETFROM:+0000
TZOFFSETTO:+0100
TZNAME:BST
DTSTART:20240331T010000
END:DAYLIGHT
BEGIN:STANDARD
TZOFFSETFROM:+0100
TZOFFSETTO:+0000
TZNAME:GMT
DTSTART:20241027T010000
END:STANDARD
END:VTIMEZONE
BEGIN:VEVENT
DTSTART;TZID=Europe/London:20230719T190000
DTEND;TZID=Europe/London:20230719T200000
DTSTAMP:20260420T103533
CREATED:20230526T094612Z
LAST-MODIFIED:20230526T094740Z
UID:4556-1689793200-1689796800@gaskellsociety.co.uk
SUMMARY:Online Talk: North and South Fan Fiction - A Writing Passion
DESCRIPTION:Elizabeth Gaskell’s North and South continues to be beloved by fans around the world. Many who admire the novel or the BBC series\, have been inspired to contribute their own twist to this iconic love story set against the backdrop of industrial England. Through the use of retellings and continuations\, Gaskell fans have developed a passion for writing and reading fan fiction\, allowing us to revel in the life and love of John Thornton and Margaret Hale in creative new ways. \nBut what is fanfic? What motivates someone to write and read it? How can our contemporary interpretations shape our understanding and appreciation of North and South today? And why has the genre experienced a revival since the start of the pandemic? \nFanfic author and journalist Caroline Malcolm-Boulton interviews two fan fiction writers to look at re-inventing classic novels for a new audience\, discovering how\, when and why these writers took up the pen in the name of Gaskell\, and how they encourage others to give it a go. So\, whether you are fan fiction reader or writer\, new to the genre\, or an experienced author\, join us for a celebration of fanfic and North and South.
URL:https://gaskellsociety.co.uk/event/online-talk-north-and-south-fan-fiction/
LOCATION:online
CATEGORIES:Discussion,North and South,talk,women
ORGANIZER;CN="Elizabeth Gaskell's House":MAILTO:enquiries@elizabethgaskellhouse.co.uk
END:VEVENT
END:VCALENDAR