BEGIN:VCALENDAR
VERSION:2.0
PRODID:-//The Gaskell Society - ECPv6.15.20//NONSGML v1.0//EN
CALSCALE:GREGORIAN
METHOD:PUBLISH
X-ORIGINAL-URL:https://gaskellsociety.co.uk
X-WR-CALDESC:Events for The Gaskell Society
REFRESH-INTERVAL;VALUE=DURATION:PT1H
X-Robots-Tag:noindex
X-PUBLISHED-TTL:PT1H
BEGIN:VTIMEZONE
TZID:Europe/London
BEGIN:DAYLIGHT
TZOFFSETFROM:+0000
TZOFFSETTO:+0100
TZNAME:BST
DTSTART:20220327T010000
END:DAYLIGHT
BEGIN:STANDARD
TZOFFSETFROM:+0100
TZOFFSETTO:+0000
TZNAME:GMT
DTSTART:20221030T010000
END:STANDARD
BEGIN:DAYLIGHT
TZOFFSETFROM:+0000
TZOFFSETTO:+0100
TZNAME:BST
DTSTART:20230326T010000
END:DAYLIGHT
BEGIN:STANDARD
TZOFFSETFROM:+0100
TZOFFSETTO:+0000
TZNAME:GMT
DTSTART:20231029T010000
END:STANDARD
BEGIN:DAYLIGHT
TZOFFSETFROM:+0000
TZOFFSETTO:+0100
TZNAME:BST
DTSTART:20240331T010000
END:DAYLIGHT
BEGIN:STANDARD
TZOFFSETFROM:+0100
TZOFFSETTO:+0000
TZNAME:GMT
DTSTART:20241027T010000
END:STANDARD
BEGIN:DAYLIGHT
TZOFFSETFROM:+0000
TZOFFSETTO:+0100
TZNAME:BST
DTSTART:20250330T010000
END:DAYLIGHT
BEGIN:STANDARD
TZOFFSETFROM:+0100
TZOFFSETTO:+0000
TZNAME:GMT
DTSTART:20251026T010000
END:STANDARD
BEGIN:DAYLIGHT
TZOFFSETFROM:+0000
TZOFFSETTO:+0100
TZNAME:BST
DTSTART:20260329T010000
END:DAYLIGHT
BEGIN:STANDARD
TZOFFSETFROM:+0100
TZOFFSETTO:+0000
TZNAME:GMT
DTSTART:20261025T010000
END:STANDARD
END:VTIMEZONE
BEGIN:VEVENT
DTSTART;TZID=Europe/London:20250910T190000
DTEND;TZID=Europe/London:20250910T210000
DTSTAMP:20260421T112325
CREATED:20250707T102901Z
LAST-MODIFIED:20250707T104539Z
UID:7766-1757530800-1757538000@gaskellsociety.co.uk
SUMMARY:Online Course - Feisty Females
DESCRIPTION:Elizabeth Gaskell’s House presents a new online course. \nLiterature is full of impressive female characters and now you can enjoy four feisty females from your favourite novelists with a new online course from Elizabeth Gaskell’s House! So join Sherry Ashworth this autumn/winter for cosy nights in with other literature fans to take a fresh look at Elizabeth Bennet from Jane Austen’s Pride and Prejudice\, Shirley from Charlotte Bronte’s Shirley\, Margaret from Elizabeth Gaskell’s North and South and Esther from George Moore’s Esther Waters. \n\nWednesday 10 September – Elizabeth Bennet from Jane Austen’s Pride and Prejudice\nThursday 9 October – Shirley from Charlotte Bronte’s Shirley\nWednesday 12 November – Margaret Hale from Elizabeth Gaskell’s North and South\nWednesday 10 December – Esther from George Moore’s Esther Waters\n\nPrice (£13.50) is per session. Find out more here https://elizabethgaskellhouse.co.uk/feisty-females/
URL:https://gaskellsociety.co.uk/event/online-course-feisty-females/
LOCATION:online
CATEGORIES:Discussion,literature,Online
ORGANIZER;CN="Elizabeth Gaskell's House":MAILTO:enquiries@elizabethgaskellhouse.co.uk
END:VEVENT
BEGIN:VEVENT
DTSTART;TZID=Europe/London:20230920T190000
DTEND;TZID=Europe/London:20230920T200000
DTSTAMP:20260421T112325
CREATED:20230526T095514Z
LAST-MODIFIED:20230526T095514Z
UID:4562-1695236400-1695240000@gaskellsociety.co.uk
SUMMARY:Online Talk: Bad Women
DESCRIPTION:‘Revenge may be wicked\, but it’s perfectly natural.’ Becky Sharpe\, Vanity Fair\, 1847 \nThe stereotype of the Victorian woman is that of a domestic angel\, pure\, innocent and a helpmate to her husband. But the women in this talk challenge that with a vengeance! Enjoy a look at the dark side with the bad women of Vanity Fair\, Mary Barton\, Little Dorrit\, Daniel Deronda and many more. Join Sherry Ashworth for a look at how the worst women in literature shock society and defy convention to make their own way in the world. Not to be missed! \nThe discussion will be approx 45 mins long\, with time for a short question session afterwards.
URL:https://gaskellsociety.co.uk/event/bad-women/
LOCATION:online
CATEGORIES:Discussion,literature,talk,women
ORGANIZER;CN="Elizabeth Gaskell's House":MAILTO:enquiries@elizabethgaskellhouse.co.uk
END:VEVENT
BEGIN:VEVENT
DTSTART;TZID=Europe/London:20230614T190000
DTEND;TZID=Europe/London:20230614T200000
DTSTAMP:20260421T112325
CREATED:20230526T092816Z
LAST-MODIFIED:20230526T092842Z
UID:4553-1686769200-1686772800@gaskellsociety.co.uk
SUMMARY:Online Talk: The Gaskells' Garden on a Plate
DESCRIPTION:Elizabeth Gaskell had great hopes for the garden at Plymouth Grove\, not just as a beautiful place to relax\, but as a source of food for the family. She even joked that ‘I find my proper vocation is farming‘. \nNow you can find out about what she grew\, where and why based on original sources including letters\, maps\, photographs and references to her fiction. Join the Gaskell Society’s Jackie Tucker to explore some of the symbolism in novels such as Cranford and North And South and discover which fruit and vegetables were grown in the Victorian garden of one of our greatest novelists. \nThe talk will be approx 45 mins long\, with time for a short question session afterwards.
URL:https://gaskellsociety.co.uk/event/online-talk-the-gaskells-garden/
LOCATION:online
CATEGORIES:history,literature,talk,women
ORGANIZER;CN="Elizabeth Gaskell's House":MAILTO:enquiries@elizabethgaskellhouse.co.uk
END:VEVENT
END:VCALENDAR